BEGIN:VCALENDAR
VERSION:2.0
PRODID:-//Plone.org//NONSGML plone.app.event//EN
X-WR-TIMEZONE:Brazil/East
BEGIN:VEVENT
SUMMARY:Sessão Especial em Homenagem aos 80 anos da Escola Barão de Aceg
 uá
DTSTART;TZID=Brazil/East;VALUE=DATE-TIME:20210809T190000
DTEND;TZID=Brazil/East;VALUE=DATE-TIME:20210809T200000
DTSTAMP;VALUE=DATE-TIME:20260419T104802Z
UID:7b78c657325340539c496a496f3f79be@www.acegua.rs.leg.br
CONTACT:(53) 32461075\, camaraacegua@gmail.com
CREATED;VALUE=DATE-TIME:20210809T140455Z
LAST-MODIFIED;VALUE=DATE-TIME:20210809T140541Z
URL:https://www.acegua.rs.leg.br/institucional/eventos/sessao-especial-em-
 homenagem-aos-80-anos-da-escola-barao-de-acegua
END:VEVENT
BEGIN:VTIMEZONE
TZID:Brazil/East
X-LIC-LOCATION:Brazil/East
BEGIN:STANDARD
DTSTART;VALUE=DATE-TIME:20210220T230000
TZNAME:BRT
TZOFFSETFROM:-0200
TZOFFSETTO:-0300
END:STANDARD
END:VTIMEZONE
END:VCALENDAR
