BEGIN:VCALENDAR
VERSION:2.0
PRODID:-//Plone.org//NONSGML plone.app.event//EN
X-WR-TIMEZONE:Brazil/East
BEGIN:VEVENT
SUMMARY:Audiência Pública para debate do Plano Plurianual para o quadri
 ênio 2022 - 2025
DTSTART;TZID=Brazil/East;VALUE=DATE-TIME:20210707T100000
DTEND;TZID=Brazil/East;VALUE=DATE-TIME:20210707T110000
DTSTAMP;VALUE=DATE-TIME:20260419T084850Z
UID:03188d1220a34d05b01e46d667222abd@www.acegua.rs.leg.br
CREATED;VALUE=DATE-TIME:20210705T123336Z
DESCRIPTION:Participe da Audiência Pública para discussão do Plano Plur
 ianual para o quadriênio 2022 - 2025.
LAST-MODIFIED;VALUE=DATE-TIME:20210705T123345Z
URL:https://www.acegua.rs.leg.br/institucional/eventos/audiencia-publica-p
 ara-debate-do-plano-plurianual-para-o-quadrienio-2022-2025
END:VEVENT
BEGIN:VTIMEZONE
TZID:Brazil/East
X-LIC-LOCATION:Brazil/East
BEGIN:STANDARD
DTSTART;VALUE=DATE-TIME:20210220T230000
TZNAME:BRT
TZOFFSETFROM:-0200
TZOFFSETTO:-0300
END:STANDARD
END:VTIMEZONE
END:VCALENDAR
