BEGIN:VCALENDAR
VERSION:2.0
PRODID:-//Plone.org//NONSGML plone.app.event//EN
X-WR-TIMEZONE:Brazil/East
BEGIN:VEVENT
SUMMARY:Audiência Pública - Orçamento 2025
DTSTART;TZID=Brazil/East;VALUE=DATE-TIME:20241031T100000
DTEND;TZID=Brazil/East;VALUE=DATE-TIME:20241031T110000
DTSTAMP;VALUE=DATE-TIME:20260419T104705Z
UID:fdae2ca8cd9e462494298cbc2c9b34ab@www.acegua.rs.leg.br
CONTACT:Miriela Fernandes\, 5332461075\, camaraacegua@gmail.com
CREATED;VALUE=DATE-TIME:20241010T135944Z
LAST-MODIFIED;VALUE=DATE-TIME:20241010T135955Z
LOCATION:Câmara Municipal
URL:https://www.acegua.rs.leg.br/institucional/eventos/audiencia-publica-o
 rcamento-2025
END:VEVENT
BEGIN:VTIMEZONE
TZID:Brazil/East
X-LIC-LOCATION:Brazil/East
BEGIN:DAYLIGHT
DTSTART;VALUE=DATE-TIME:20241020T010000
TZNAME:BRST
TZOFFSETFROM:-0300
TZOFFSETTO:-0200
END:DAYLIGHT
END:VTIMEZONE
END:VCALENDAR
