BEGIN:VCALENDAR
VERSION:2.0
PRODID:-//Plone.org//NONSGML plone.app.event//EN
X-WR-TIMEZONE:Brazil/East
BEGIN:VEVENT
SUMMARY:Audiência Pública de Avaliação da Gestão Fiscal e Metas Fisca
 is do Poder Executivo referente ao 2º Quadrimestre de 2021
DTSTART;TZID=Brazil/East;VALUE=DATE-TIME:20210930T100000
DTEND;TZID=Brazil/East;VALUE=DATE-TIME:20210930T110000
DTSTAMP;VALUE=DATE-TIME:20260419T084850Z
UID:1d71851285ef4432ae9b47c38c1add04@www.acegua.rs.leg.br
CONTACT:5332461075\, camaraacegua@gmail.com
CREATED;VALUE=DATE-TIME:20210924T133739Z
LAST-MODIFIED;VALUE=DATE-TIME:20210924T133745Z
LOCATION:Câmara de Vereadores de Aceguá
URL:https://www.acegua.rs.leg.br/institucional/eventos/audiencia-publica-d
 e-avaliacao-da-gestao-fiscal-e-metas-fiscais-do-poder-executivo-referente-
 ao-2o-quadrimestre-de-2021
END:VEVENT
BEGIN:VTIMEZONE
TZID:Brazil/East
X-LIC-LOCATION:Brazil/East
BEGIN:STANDARD
DTSTART;VALUE=DATE-TIME:20210220T230000
TZNAME:BRT
TZOFFSETFROM:-0200
TZOFFSETTO:-0300
END:STANDARD
END:VTIMEZONE
END:VCALENDAR
